BEGIN:VCALENDAR
VERSION:2.0
PRODID:-//CAIDI - ECPv6.3.6//NONSGML v1.0//EN
CALSCALE:GREGORIAN
METHOD:PUBLISH
X-WR-CALNAME:CAIDI
X-ORIGINAL-URL:https://caidi.pt
X-WR-CALDESC:Events for CAIDI
REFRESH-INTERVAL;VALUE=DURATION:PT1H
X-Robots-Tag:noindex
X-PUBLISHED-TTL:PT1H
BEGIN:VTIMEZONE
TZID:Europe/Paris
BEGIN:DAYLIGHT
TZOFFSETFROM:+0100
TZOFFSETTO:+0200
TZNAME:CEST
DTSTART:20230326T010000
END:DAYLIGHT
BEGIN:STANDARD
TZOFFSETFROM:+0200
TZOFFSETTO:+0100
TZNAME:CET
DTSTART:20231029T010000
END:STANDARD
END:VTIMEZONE
BEGIN:VEVENT
DTSTART;TZID=Europe/Paris:20230718T090000
DTEND;TZID=Europe/Paris:20230718T130000
DTSTAMP:20260423T173050
CREATED:20230701T145108Z
LAST-MODIFIED:20230703T153248Z
UID:4091-1689670800-1689685200@caidi.pt
SUMMARY:Desafios especiais na intervenção na Alimentação
DESCRIPTION:Alimentação \n\nIdentificar sinais de alerta de comportamentos de recusa e seletividade alimentar\nReconhecer a intervenção e articulação multidisciplinar como veículo essencial para um adequado acompanhamento\nEstratégias de atuação para cuidadores\n\nFormação via Zoom. O link para acesso será enviado no dia anterior a formação.
URL:https://caidi.pt/formacao/desafios-especiais-na-intervencao-na-alimentacao/
LOCATION:Caidi\, Portugal
CATEGORIES:Terapia da Fala
ATTACH;FMTTYPE=image/jpeg:https://caidi.pt/wp-content/uploads/2023/07/autism-desefios-100.jpg
ORGANIZER;CN="Caidi":MAILTO:comunicacao@caidi.pt
END:VEVENT
END:VCALENDAR