BEGIN:VCALENDAR
VERSION:2.0
PRODID:-//CAIDI - ECPv6.3.6//NONSGML v1.0//EN
CALSCALE:GREGORIAN
METHOD:PUBLISH
X-ORIGINAL-URL:https://caidi.pt
X-WR-CALDESC:Events for CAIDI
REFRESH-INTERVAL;VALUE=DURATION:PT1H
X-Robots-Tag:noindex
X-PUBLISHED-TTL:PT1H
BEGIN:VTIMEZONE
TZID:UTC
BEGIN:STANDARD
TZOFFSETFROM:+0000
TZOFFSETTO:+0000
TZNAME:UTC
DTSTART:20240101T000000
END:STANDARD
END:VTIMEZONE
BEGIN:VEVENT
DTSTART;TZID=UTC:20240220T170000
DTEND;TZID=UTC:20240220T190000
DTSTAMP:20260422T020919
CREATED:20240131T090048Z
LAST-MODIFIED:20240119T122312Z
UID:4574-1708448400-1708455600@caidi.pt
SUMMARY:Uma viagem pelas "DIS...": Disgrafia
DESCRIPTION:Data: dia 20 de fevereiro (disponibilização dos vídeos – sessão assíncrona); dia 27 de fevereiro sessão síncrona às 21h (duração de 1 hora) em plataforma ZOOM \nDuração: 2h – assíncronas (visualização de vídeos formativos) + 1h síncrona (Sessão presencial em sala virtual). \nFormadores: Joana Ramos\, Psicomotricista; Ana Silva\, Psicomotricista; Coord. Ricardina Correia – CAIDI \nValor: 30 euros (gratuito para parceiros) \nDestinatários: Equipa pedagógica e educativa \nObjetivos: Consciencializar sobre a disgrafia\, as suas principais características e desafios; Fornecer ferramentas práticas para pais e docentes apoiarem e compreenderem crianças e jovens com disgrafia; Promover o diálogo sobre a importância do diagnóstico precoce e das estratégias pedagógicas adequadas; Incentivar a colaboração entre pais\, docentes e profissionais de saúde na procura de soluções integradas e apoios.
URL:https://caidi.pt/formacao/uma-viagem-pelas-dis-disgrafia/
LOCATION:Caidi via ZOOM\, Online - Link enviado para inscritos\, algumas horas antes.
CATEGORIES:Psicomotricidade
ATTACH;FMTTYPE=image/png:https://caidi.pt/wp-content/uploads/2024/01/viagem-Dis-Disgrafia-post.png
ORGANIZER;CN="Caidi":MAILTO:comunicacao@caidi.pt
END:VEVENT
END:VCALENDAR